BEGIN:VCALENDAR\
VERSION:2.0\
PRODIDNew Castle Building Products  ECPv6.15.18//NONSGML v1.0//EN\
CALSCALE:GREGORIAN\
METHOD:PUBLISH\
X-ORIGINAL-URL:https://ncbp.com
X-WR-CALDESC:Wydarzenia dla New Castle Building ProductsREFRESH-INTERVAL;VALUE=DURATION:PT1H
X-Robots-Tag:noindex
X-PUBLISHED-TTL:PT1H
BEGIN:VTIMEZONE
TZID:America/New_York
BEGIN:DAYLIGHT
TZOFFSETFROM:-0500
TZOFFSETTO:-0400
TZNAME:EDT
DTSTART:20220313T070000
END:DAYLIGHT
BEGIN:STANDARD
TZOFFSETFROM:-0400
TZOFFSETTO:-0500
TZNAME:EST
DTSTART:20221106T060000
END:STANDARD
BEGIN:DAYLIGHT
TZOFFSETFROM:-0500
TZOFFSETTO:-0400
TZNAME:EDT
DTSTART:20230312T070000
END:DAYLIGHT
BEGIN:STANDARD
TZOFFSETFROM:-0400
TZOFFSETTO:-0500
TZNAME:EST
DTSTART:20231105T060000
END:STANDARD
BEGIN:DAYLIGHT
TZOFFSETFROM:-0500
TZOFFSETTO:-0400
TZNAME:EDT
DTSTART:20240310T070000
END:DAYLIGHT
BEGIN:STANDARD
TZOFFSETFROM:-0400
TZOFFSETTO:-0500
TZNAME:EST
DTSTART:20241103T060000
END:STANDARD
END:VTIMEZONE
BEGIN:VEVENT
DTSTART;TZID=America/New_York:20230614T090000
DTEND;TZID=America/New_York:20230614T130000
DTSTAMP:20260420T200228
CREATED:20230516T145328Z
LAST-MODIFIED:20230518T123902Z
UID:3242-1686733200-1686747600@ncbp.com
SUMMARY:Prezentacja Acrylabs w Bensalem
DESCRIPTION:
URL:https://ncbp.com/event/acrylabs-bensalem-6-14-23/
LOKALIZACJA:Bensalem\, PA\, 2525 State Road\, Bensalem\, PA\, 19020\, Stany Zjednoczone\
KONIEC:VEVENT\
POCZĄTEK:VEVENT\
DTSTART;TZID=America/New_York:20230607T110000
DTEND;TZID=America/New_York:20230607T150000
DTSTAMP:20260420T200228
CREATED:20230516T145318Z
LAST-MODIFIED:20230605T140526Z
UID:3243-1686135600-1686150000@ncbp.com
SUMMARY:Dołącz do nas na targach Long Island Trade Show
DESCRIPTION:
URL:https://ncbp.com/event/li-tradeshow-6-7-23/
LOKALIZACJA:Ronkonkoma\, 2133 Ocean Ave\, Ronkonkoma\, NY\, 11779\, Stany Zjednoczone\
KONIEC:VEVENT\
POCZĄTEK:VEVENT\
DTSTART;TZID=America/New_York:20230525T100000
DTEND;TZID=America/New_York:20230525T140000
DTSTAMP:20260420T200228
CREATED:20230517T172540Z
LAST-MODIFIED:20230518T123920Z
UID:3250-1685008800-1685023200@ncbp.com
SUMMARY:Prezentacja powłok GAF w Ramsey
DESCRIPTION:
URL:https://ncbp.com/event/gaf-demo-ramsey-5-25-23/
LOKALIZACJA:Ramsey\, 575 Island Rd\, Ramsey\, NJ\, 07446\, Stany Zjednoczone\
KONIEC:VEVENT\
POCZĄTEK:VEVENT\
DTSTART;TZID=America/New_York:20230525T080000
DTEND;TZID=America/New_York:20230525T110000\
DTSTAMP:20260420T200228\
CREATED:20230517T165526Z\
LAST-MODIFIED:20230523T114022Z
UID:3247-1685001600-1685012400@ncbp.com
SUMMARY:Elevate + Gaco w Bensalem
DESCRIPTION:To wydarzenie zostało odwołane i zostanie przełożone na inny termin. Zapraszamy do zapoznania się z naszym harmonogramem wydarzeń.
URL:https://ncbp.com/event/elevate-gaco-bs-5-25-23/
LOKALIZACJA:Bensalem\, PA\, 2525 State Road\, Bensalem\, PA\, 19020\, Stany Zjednoczone
END:VEVENT
END:VCALENDAR